BEGIN:VCALENDAR
VERSION:2.0
PRODID:-//oostburglibrary.org//NONSGML kigkonsult.se iCalcreator 2.30.10//
CALSCALE:GREGORIAN
METHOD:PUBLISH
UID:0340974f-2e7f-4658-9797-ee7596d4112d
X-WR-CALDESC:
X-WR-RELCALID:6fb08c411063af4063e40bac49d94af4
X-WR-TIMEZONE:America/Chicago
BEGIN:VTIMEZONE
TZID:America/Chicago
BEGIN:STANDARD
TZNAME:CST
DTSTART:20251102T020000
TZOFFSETFROM:-0500
TZOFFSETTO:-0600
RDATE:20261101T020000
END:STANDARD
BEGIN:DAYLIGHT
TZNAME:CDT
DTSTART:20250309T020000
TZOFFSETFROM:-0600
TZOFFSETTO:-0500
RDATE:20260308T020000
RDATE:20270314T020000
END:DAYLIGHT
END:VTIMEZONE
BEGIN:VEVENT
UID:f8c9a99f-fdcf-454c-af87-89f75f91335e
DTSTAMP:20260421T111951Z
DESCRIPTION:
DTSTART;TZID=America/Chicago:20251224T050000
DTEND;TZID=America/Chicago:20251227T050001
LOCATION:Oostburg Public Library\, 213 N 8th St\, Oostburg\, WI 53070 US
SUMMARY:Closed for Christmas Holiday
END:VEVENT
END:VCALENDAR
