BEGIN:VCALENDAR
VERSION:2.0
PRODID:-//oostburglibrary.org//NONSGML kigkonsult.se iCalcreator 2.30.10//
CALSCALE:GREGORIAN
METHOD:PUBLISH
UID:5932ea62-b9f5-429a-b1f3-d7d496995693
X-WR-CALDESC:
X-WR-RELCALID:ac70e5f6f44bb7fa14d86a2b72130fd0
X-WR-TIMEZONE:America/Belize
BEGIN:VTIMEZONE
TZID:America/Belize
BEGIN:STANDARD
TZNAME:CST
DTSTART:20240407T060000
TZOFFSETFROM:+0000
TZOFFSETTO:-0600
END:STANDARD
END:VTIMEZONE
BEGIN:VEVENT
UID:b670e96d-9b2b-4480-a61e-60e11edc63af
DTSTAMP:20260423T100207Z
DESCRIPTION:
DTSTART;TZID=America/Belize:20260107T100000
DTEND;TZID=America/Belize:20260107T110000
LOCATION:213 North 8th St\, Oostburg\, WI 53070 US
SUMMARY:Preschool Story Time
END:VEVENT
END:VCALENDAR
