BEGIN:VCALENDAR
VERSION:2.0
PRODID:-//oostburglibrary.org//NONSGML kigkonsult.se iCalcreator 2.30.10//
CALSCALE:GREGORIAN
METHOD:PUBLISH
UID:d0c2d15f-d57b-4a49-baf9-bc8aec33b592
X-WR-CALDESC:
X-WR-RELCALID:0b3f2578ee6f6855bb080d9fb8c71816
X-WR-TIMEZONE:America/Belize
BEGIN:VTIMEZONE
TZID:America/Belize
BEGIN:STANDARD
TZNAME:CST
DTSTART:20240421T060000
TZOFFSETFROM:+0000
TZOFFSETTO:-0600
END:STANDARD
END:VTIMEZONE
BEGIN:VEVENT
UID:678e2070-c4f5-444a-8609-e03b16f53f5a
DTSTAMP:20260419T141956Z
DESCRIPTION:
DTSTART;TZID=America/Belize:20260121T100000
DTEND;TZID=America/Belize:20260121T110000
LOCATION:213 North 8th St\, Oostburg\, WI 53070 US
SUMMARY:Preschool Story Time
END:VEVENT
END:VCALENDAR
