BEGIN:VCALENDAR
VERSION:2.0
PRODID:-//oostburglibrary.org//NONSGML kigkonsult.se iCalcreator 2.30.10//
CALSCALE:GREGORIAN
METHOD:PUBLISH
UID:8eac78d4-f390-4d4d-ab40-c218a0a2a933
X-WR-CALDESC:
X-WR-RELCALID:43e1780ace30b46f00731d552168f95c
X-WR-TIMEZONE:America/Chicago
BEGIN:VTIMEZONE
TZID:America/Chicago
BEGIN:STANDARD
TZNAME:CST
DTSTART:20251102T020000
TZOFFSETFROM:-0500
TZOFFSETTO:-0600
RDATE:20261101T020000
END:STANDARD
BEGIN:DAYLIGHT
TZNAME:CDT
DTSTART:20250309T020000
TZOFFSETFROM:-0600
TZOFFSETTO:-0500
RDATE:20260308T020000
RDATE:20270314T020000
END:DAYLIGHT
END:VTIMEZONE
BEGIN:VEVENT
UID:9bf0b956-9777-4746-aded-eb65c7ce54a7
DTSTAMP:20260421T102044Z
DESCRIPTION:
DTSTART;TZID=America/Chicago:20260123T050000
DTEND;TZID=America/Chicago:20260123T050001
LOCATION:
SUMMARY:Library Closed due to extreme temperatures
END:VEVENT
END:VCALENDAR
