BEGIN:VCALENDAR
VERSION:2.0
PRODID:-//oostburglibrary.org//NONSGML kigkonsult.se iCalcreator 2.30.10//
CALSCALE:GREGORIAN
METHOD:PUBLISH
UID:e22742c7-0bad-4040-a585-2e87b39fb931
X-WR-CALDESC:**Update: Procraftinators is canceled on January 24. We will r
 eschedule it for a future date.**\n\nJoin us to make DIY Soup in a Jar\n\n
 Registration is required. Spots are limited! Call or stop in to register\n
 Adults (18+) only\n\nSponsored by the Friends of the Oostburg Public Libra
 ry
X-WR-RELCALID:9fff042eb148be72a7770355282ad58f
X-WR-TIMEZONE:America/Chicago
BEGIN:VTIMEZONE
TZID:America/Chicago
BEGIN:STANDARD
TZNAME:CST
DTSTART:20251102T020000
TZOFFSETFROM:-0500
TZOFFSETTO:-0600
RDATE:20261101T020000
END:STANDARD
BEGIN:DAYLIGHT
TZNAME:CDT
DTSTART:20250309T020000
TZOFFSETFROM:-0600
TZOFFSETTO:-0500
RDATE:20260308T020000
RDATE:20270314T020000
END:DAYLIGHT
END:VTIMEZONE
BEGIN:VEVENT
UID:4b0104c2-4d59-42af-8d25-72aa584da0b3
DTSTAMP:20260421T101530Z
DESCRIPTION:**Update: Procraftinators is canceled on January 24. We will re
 schedule it for a future date.**\n\nJoin us to make DIY Soup in a Jar\n\nR
 egistration is required. Spots are limited! Call or stop in to register\nA
 dults (18+) only\n\nSponsored by the Friends of the Oostburg Public Librar
 y
DTSTART;TZID=America/Chicago:20260124T100000
DTEND;TZID=America/Chicago:20260124T120000
LOCATION:213 North 8th St\, Oostburg\, Wisconsin 53070\, Oostburg\, WI 5307
 0 US
SUMMARY:Procraftinators *Canceled*
END:VEVENT
END:VCALENDAR
