BEGIN:VCALENDAR
VERSION:2.0
PRODID:-//oostburglibrary.org//NONSGML kigkonsult.se iCalcreator 2.30.10//
CALSCALE:GREGORIAN
METHOD:PUBLISH
UID:f688001a-9f37-4606-a913-df60b3a2db02
X-WR-CALDESC:
X-WR-RELCALID:c630db0802001e65398329425eec3713
X-WR-TIMEZONE:America/Belize
BEGIN:VTIMEZONE
TZID:America/Belize
BEGIN:STANDARD
TZNAME:CST
DTSTART:20240428T060000
TZOFFSETFROM:+0000
TZOFFSETTO:-0600
END:STANDARD
END:VTIMEZONE
BEGIN:VEVENT
UID:a177ff04-5709-403c-8fc5-cfe3d5ae374e
DTSTAMP:20260423T094455Z
DESCRIPTION:
DTSTART;TZID=America/Belize:20260128T100000
DTEND;TZID=America/Belize:20260128T110000
LOCATION:213 North 8th St\, Oostburg\, WI 53070 US
SUMMARY:Preschool Story Time
END:VEVENT
END:VCALENDAR
