BEGIN:VCALENDAR
VERSION:2.0
PRODID:-//oostburglibrary.org//NONSGML kigkonsult.se iCalcreator 2.30.10//
CALSCALE:GREGORIAN
METHOD:PUBLISH
UID:98249b51-7a97-42a9-80aa-bccee6ef5f0d
X-WR-CALDESC:**Rescheduled from January**\n\nJoin us to make DIY Soup in a 
 Jar\n\nRegistration is required. Spots are limited! Call or stop in to reg
 ister\nAdults (18+) only\n\nSponsored by the Friends of the Oostburg Publi
 c Library
X-WR-RELCALID:e2fb83310f04c1e2b73551842286a353
X-WR-TIMEZONE:America/Chicago
BEGIN:VTIMEZONE
TZID:America/Chicago
BEGIN:STANDARD
TZNAME:CST
DTSTART:20251102T020000
TZOFFSETFROM:-0500
TZOFFSETTO:-0600
RDATE:20261101T020000
END:STANDARD
BEGIN:DAYLIGHT
TZNAME:CDT
DTSTART:20250309T020000
TZOFFSETFROM:-0600
TZOFFSETTO:-0500
RDATE:20260308T020000
RDATE:20270314T020000
END:DAYLIGHT
END:VTIMEZONE
BEGIN:VEVENT
UID:2975e3b6-3ab9-4214-a829-02f818e913c4
DTSTAMP:20260423T083029Z
DESCRIPTION:**Rescheduled from January**\n\nJoin us to make DIY Soup in a J
 ar\n\nRegistration is required. Spots are limited! Call or stop in to regi
 ster\nAdults (18+) only\n\nSponsored by the Friends of the Oostburg Public
  Library
DTSTART;TZID=America/Chicago:20260221T100000
DTEND;TZID=America/Chicago:20260221T120000
LOCATION:213 North 8th St\, Oostburg\, Wisconsin 53070\, Oostburg\, WI 5307
 0 US
SUMMARY:Procraftinators
END:VEVENT
END:VCALENDAR
