BEGIN:VCALENDAR
VERSION:2.0
PRODID:-//oostburglibrary.org//NONSGML kigkonsult.se iCalcreator 2.30.10//
CALSCALE:GREGORIAN
METHOD:PUBLISH
UID:bc0c4b93-1954-425f-9c10-9e9995dfc554
X-WR-CALDESC:
X-WR-RELCALID:d59fbc6b3a68ff74dd504d7d80021273
X-WR-TIMEZONE:America/Belize
BEGIN:VTIMEZONE
TZID:America/Belize
BEGIN:STANDARD
TZNAME:CST
DTSTART:20240526T060000
TZOFFSETFROM:+0000
TZOFFSETTO:-0600
END:STANDARD
END:VTIMEZONE
BEGIN:VEVENT
UID:f6c5f903-8bca-4314-902f-ee011f022d6b
DTSTAMP:20260421T083658Z
DESCRIPTION:
DTSTART;TZID=America/Belize:20260225T100000
DTEND;TZID=America/Belize:20260225T110000
LOCATION:213 North 8th St\, Oostburg\, WI 53070 US
SUMMARY:Preschool Story Time
END:VEVENT
END:VCALENDAR
