BEGIN:VCALENDAR
VERSION:2.0
PRODID:-//oostburglibrary.org//NONSGML kigkonsult.se iCalcreator 2.30.10//
CALSCALE:GREGORIAN
METHOD:PUBLISH
UID:bfcff941-6e91-4694-ad4b-ddc168050a41
X-WR-CALDESC:
X-WR-RELCALID:24ad01b64998296b1d10f149648fb895
X-WR-TIMEZONE:America/Chicago
BEGIN:VTIMEZONE
TZID:America/Chicago
BEGIN:STANDARD
TZNAME:CST
DTSTART:20251102T020000
TZOFFSETFROM:-0500
TZOFFSETTO:-0600
RDATE:20261101T020000
END:STANDARD
BEGIN:DAYLIGHT
TZNAME:CDT
DTSTART:20260308T020000
TZOFFSETFROM:-0600
TZOFFSETTO:-0500
RDATE:20270314T020000
END:DAYLIGHT
END:VTIMEZONE
BEGIN:VEVENT
UID:2425b882-90b3-4abf-8e84-38ba46b26a57
DTSTAMP:20260419T174816Z
DESCRIPTION:
DTSTART;TZID=America/Chicago:20260409T090000
DTEND;TZID=America/Chicago:20260428T190000
LOCATION:213 North 8th St\, Oostburg\, WI 53070 US
SUMMARY:Peeps Show: Entries in the Peeps Diorama Contest on Display
END:VEVENT
END:VCALENDAR
