BEGIN:VCALENDAR
VERSION:2.0
PRODID:-//oostburglibrary.org//NONSGML kigkonsult.se iCalcreator 2.30.10//
CALSCALE:GREGORIAN
METHOD:PUBLISH
UID:1cdb5fbb-fbda-4ed0-b6fd-487d775390ac
X-WR-CALDESC:
X-WR-RELCALID:2722aa3613afea8fac14f6619af251f1
X-WR-TIMEZONE:America/Chicago
BEGIN:VTIMEZONE
TZID:America/Chicago
BEGIN:STANDARD
TZNAME:CST
DTSTART:20251102T020000
TZOFFSETFROM:-0500
TZOFFSETTO:-0600
RDATE:20261101T020000
RDATE:20271107T020000
END:STANDARD
BEGIN:DAYLIGHT
TZNAME:CDT
DTSTART:20260308T020000
TZOFFSETFROM:-0600
TZOFFSETTO:-0500
RDATE:20270314T020000
END:DAYLIGHT
END:VTIMEZONE
BEGIN:VEVENT
UID:65ed568b-71bd-47f0-98fa-4f445c295145
DTSTAMP:20260421T083532Z
DESCRIPTION:
DTSTART;TZID=America/Chicago:20260622T160000
DTEND;TZID=America/Chicago:20260622T170000
LOCATION:In the Community Room
SUMMARY:Library Board Meeting
END:VEVENT
END:VCALENDAR
